BEGIN:VCALENDAR
VERSION:2.0
PRODID:-//WSVO - ECPv6.15.18//NONSGML v1.0//EN
CALSCALE:GREGORIAN
METHOD:PUBLISH
X-WR-CALNAME:WSVO
X-ORIGINAL-URL:https://www.wsvo.nl
X-WR-CALDESC:Evenementen voor WSVO
REFRESH-INTERVAL;VALUE=DURATION:PT1H
X-Robots-Tag:noindex
X-PUBLISHED-TTL:PT1H
BEGIN:VTIMEZONE
TZID:Europe/Amsterdam
BEGIN:DAYLIGHT
TZOFFSETFROM:+0100
TZOFFSETTO:+0200
TZNAME:CEST
DTSTART:20240331T010000
END:DAYLIGHT
BEGIN:STANDARD
TZOFFSETFROM:+0200
TZOFFSETTO:+0100
TZNAME:CET
DTSTART:20241027T010000
END:STANDARD
BEGIN:DAYLIGHT
TZOFFSETFROM:+0100
TZOFFSETTO:+0200
TZNAME:CEST
DTSTART:20250330T010000
END:DAYLIGHT
BEGIN:STANDARD
TZOFFSETFROM:+0200
TZOFFSETTO:+0100
TZNAME:CET
DTSTART:20251026T010000
END:STANDARD
BEGIN:DAYLIGHT
TZOFFSETFROM:+0100
TZOFFSETTO:+0200
TZNAME:CEST
DTSTART:20260329T010000
END:DAYLIGHT
BEGIN:STANDARD
TZOFFSETFROM:+0200
TZOFFSETTO:+0100
TZNAME:CET
DTSTART:20261025T010000
END:STANDARD
END:VTIMEZONE
BEGIN:VEVENT
DTSTART;TZID=Europe/Amsterdam:20250702T140000
DTEND;TZID=Europe/Amsterdam:20250702T170000
DTSTAMP:20260423T225409
CREATED:20250308T091204Z
LAST-MODIFIED:20250308T091204Z
UID:494-1751464800-1751475600@www.wsvo.nl
SUMMARY:Kennismakingslessen kajuitjachtzeilen op Oosterschelde
DESCRIPTION:Eerste kennismaking met kajuitjacht zeilen op ruim water ? altijd alleen meegezeild met ervaren schippers ? Ooit iets met watersport gedaan en weer interesse om de wind\, water\, ruimte te beleven. Stap aan boord en ervaar wat het is om les te nemen bij ons. \nHet is een korte tocht van ca. 3 uur op de Oosterschelde. Voor iedereen toegankelijk die nog niet eerder met ons heeft meegezeild: wel of geen ervaring met zeilen\, het maakt niet uit. \nMaak kennis met de trainers\, de boten en met onze programma’s en lesmethodiek. \nVerzamelen: voor Sluisplateau 32\nKosten: € 50\,- per persoon\nOpgeven en betalen: Via www.wittewaaier.nl.\nNadere informatie:  Via een mailtje naar: info@wittewaaier.nl\, of tel nr 0570-607300.\nBedrijfsnaam: Witte Waaier Zeilen\nContactpersoon: Tamàr Dobbelstein \nDatums: \n2 juli 2025\n9 juli 2025\n16 juli 2025\n6 augustus 2025\n13 augustus 2025\n20 augustus 2025
URL:https://www.wsvo.nl/tedoen/kennismakingslessen-kajuitjachtzeilen-op-oosterschelde/
LOCATION:Zeeland
END:VEVENT
BEGIN:VEVENT
DTSTART;TZID=Europe/Amsterdam:20250702T183000
DTEND;TZID=Europe/Amsterdam:20250702T233000
DTSTAMP:20260423T225409
CREATED:20250701T084100Z
LAST-MODIFIED:20250701T084130Z
UID:671-1751481000-1751499000@www.wsvo.nl
SUMMARY:Twilight Race 9
DESCRIPTION:Twilight Race 9
URL:https://www.wsvo.nl/tedoen/twilightrace-9/
LOCATION:Zeeland
END:VEVENT
END:VCALENDAR