BEGIN:VCALENDAR
VERSION:2.0
PRODID:-//WSVO - ECPv6.15.18//NONSGML v1.0//EN
CALSCALE:GREGORIAN
METHOD:PUBLISH
X-WR-CALNAME:WSVO
X-ORIGINAL-URL:https://www.wsvo.nl
X-WR-CALDESC:Evenementen voor WSVO
REFRESH-INTERVAL;VALUE=DURATION:PT1H
X-Robots-Tag:noindex
X-PUBLISHED-TTL:PT1H
BEGIN:VTIMEZONE
TZID:Europe/Amsterdam
BEGIN:DAYLIGHT
TZOFFSETFROM:+0100
TZOFFSETTO:+0200
TZNAME:CEST
DTSTART:20240331T010000
END:DAYLIGHT
BEGIN:STANDARD
TZOFFSETFROM:+0200
TZOFFSETTO:+0100
TZNAME:CET
DTSTART:20241027T010000
END:STANDARD
BEGIN:DAYLIGHT
TZOFFSETFROM:+0100
TZOFFSETTO:+0200
TZNAME:CEST
DTSTART:20250330T010000
END:DAYLIGHT
BEGIN:STANDARD
TZOFFSETFROM:+0200
TZOFFSETTO:+0100
TZNAME:CET
DTSTART:20251026T010000
END:STANDARD
BEGIN:DAYLIGHT
TZOFFSETFROM:+0100
TZOFFSETTO:+0200
TZNAME:CEST
DTSTART:20260329T010000
END:DAYLIGHT
BEGIN:STANDARD
TZOFFSETFROM:+0200
TZOFFSETTO:+0100
TZNAME:CET
DTSTART:20261025T010000
END:STANDARD
END:VTIMEZONE
BEGIN:VEVENT
DTSTART;TZID=Europe/Amsterdam:20250718T080000
DTEND;TZID=Europe/Amsterdam:20250719T230000
DTSTAMP:20260423T214250
CREATED:20250703T143409Z
LAST-MODIFIED:20250703T143409Z
UID:687-1752825600-1752966000@www.wsvo.nl
SUMMARY:Van Loon Hardzeildagen 2025
DESCRIPTION:Van Loon Hardzeildagen 2025\n\nhttps://hoogaars.nl/van-loon-hardzeildagen/
URL:https://www.wsvo.nl/tedoen/van-loon-hardzeildagen-2025/
LOCATION:Zeeland
END:VEVENT
END:VCALENDAR