BEGIN:VCALENDAR
VERSION:2.0
PRODID:-//WSVO - ECPv6.15.18//NONSGML v1.0//EN
CALSCALE:GREGORIAN
METHOD:PUBLISH
X-WR-CALNAME:WSVO
X-ORIGINAL-URL:https://www.wsvo.nl
X-WR-CALDESC:Evenementen voor WSVO
REFRESH-INTERVAL;VALUE=DURATION:PT1H
X-Robots-Tag:noindex
X-PUBLISHED-TTL:PT1H
BEGIN:VTIMEZONE
TZID:Europe/Amsterdam
BEGIN:DAYLIGHT
TZOFFSETFROM:+0100
TZOFFSETTO:+0200
TZNAME:CEST
DTSTART:20240331T010000
END:DAYLIGHT
BEGIN:STANDARD
TZOFFSETFROM:+0200
TZOFFSETTO:+0100
TZNAME:CET
DTSTART:20241027T010000
END:STANDARD
BEGIN:DAYLIGHT
TZOFFSETFROM:+0100
TZOFFSETTO:+0200
TZNAME:CEST
DTSTART:20250330T010000
END:DAYLIGHT
BEGIN:STANDARD
TZOFFSETFROM:+0200
TZOFFSETTO:+0100
TZNAME:CET
DTSTART:20251026T010000
END:STANDARD
BEGIN:DAYLIGHT
TZOFFSETFROM:+0100
TZOFFSETTO:+0200
TZNAME:CEST
DTSTART:20260329T010000
END:DAYLIGHT
BEGIN:STANDARD
TZOFFSETFROM:+0200
TZOFFSETTO:+0100
TZNAME:CET
DTSTART:20261025T010000
END:STANDARD
END:VTIMEZONE
BEGIN:VEVENT
DTSTART;TZID=Europe/Amsterdam:20250702T183000
DTEND;TZID=Europe/Amsterdam:20250702T233000
DTSTAMP:20260421T114401
CREATED:20250701T084100Z
LAST-MODIFIED:20250701T084130Z
UID:671-1751481000-1751499000@www.wsvo.nl
SUMMARY:Twilight Race 9
DESCRIPTION:Twilight Race 9
URL:https://www.wsvo.nl/tedoen/twilightrace-9/
END:VEVENT
BEGIN:VEVENT
DTSTART;TZID=Europe/Amsterdam:20250702T140000
DTEND;TZID=Europe/Amsterdam:20250702T170000
DTSTAMP:20260421T114401
CREATED:20250308T091204Z
LAST-MODIFIED:20250308T091204Z
UID:494-1751464800-1751475600@www.wsvo.nl
SUMMARY:Kennismakingslessen kajuitjachtzeilen op Oosterschelde
DESCRIPTION:Eerste kennismaking met kajuitjacht zeilen op ruim water ? altijd alleen meegezeild met ervaren schippers ? Ooit iets met watersport gedaan en weer interesse om de wind\, water\, ruimte te beleven. Stap aan boord en ervaar wat het is om les te nemen bij ons. \nHet is een korte tocht van ca. 3 uur op de Oosterschelde. Voor iedereen toegankelijk die nog niet eerder met ons heeft meegezeild: wel of geen ervaring met zeilen\, het maakt niet uit. \nMaak kennis met de trainers\, de boten en met onze programma’s en lesmethodiek. \nVerzamelen: voor Sluisplateau 32\nKosten: € 50\,- per persoon\nOpgeven en betalen: Via www.wittewaaier.nl.\nNadere informatie:  Via een mailtje naar: info@wittewaaier.nl\, of tel nr 0570-607300.\nBedrijfsnaam: Witte Waaier Zeilen\nContactpersoon: Tamàr Dobbelstein \nDatums: \n2 juli 2025\n9 juli 2025\n16 juli 2025\n6 augustus 2025\n13 augustus 2025\n20 augustus 2025
URL:https://www.wsvo.nl/tedoen/kennismakingslessen-kajuitjachtzeilen-op-oosterschelde/
END:VEVENT
BEGIN:VEVENT
DTSTART;TZID=Europe/Amsterdam:20250625T190000
DTEND;TZID=Europe/Amsterdam:20250625T230000
DTSTAMP:20260421T114401
CREATED:20250307T151828Z
LAST-MODIFIED:20250307T151828Z
UID:477-1750878000-1750892400@www.wsvo.nl
SUMMARY:Twilight Race 8
DESCRIPTION:Twilight Race 8
URL:https://www.wsvo.nl/tedoen/twilight-race-8/
END:VEVENT
BEGIN:VEVENT
DTSTART;TZID=Europe/Amsterdam:20250618T190000
DTEND;TZID=Europe/Amsterdam:20250618T230000
DTSTAMP:20260421T114401
CREATED:20250307T151728Z
LAST-MODIFIED:20250307T151728Z
UID:475-1750273200-1750287600@www.wsvo.nl
SUMMARY:Twilight Race 7
DESCRIPTION:Twilight Race 7
URL:https://www.wsvo.nl/tedoen/twilight-race-7/
END:VEVENT
BEGIN:VEVENT
DTSTART;TZID=Europe/Amsterdam:20250611T190000
DTEND;TZID=Europe/Amsterdam:20250611T230000
DTSTAMP:20260421T114401
CREATED:20250307T151606Z
LAST-MODIFIED:20250307T151606Z
UID:473-1749668400-1749682800@www.wsvo.nl
SUMMARY:Twilight Race 6
DESCRIPTION:Twilight Race 6
URL:https://www.wsvo.nl/tedoen/twilight-race-6/
END:VEVENT
BEGIN:VEVENT
DTSTART;TZID=Europe/Amsterdam:20250604T190000
DTEND;TZID=Europe/Amsterdam:20250604T230000
DTSTAMP:20260421T114401
CREATED:20250307T151431Z
LAST-MODIFIED:20250307T151431Z
UID:471-1749063600-1749078000@www.wsvo.nl
SUMMARY:Twilight Race 5
DESCRIPTION:Twilight Race 5
URL:https://www.wsvo.nl/tedoen/twilight-race-5/
END:VEVENT
BEGIN:VEVENT
DTSTART;TZID=Europe/Amsterdam:20250528T190000
DTEND;TZID=Europe/Amsterdam:20250528T230000
DTSTAMP:20260421T114401
CREATED:20250307T150839Z
LAST-MODIFIED:20250307T150839Z
UID:469-1748458800-1748473200@www.wsvo.nl
SUMMARY:Twilight Race 4
DESCRIPTION:Twilight Race 4
URL:https://www.wsvo.nl/tedoen/twilight-race-4/
END:VEVENT
BEGIN:VEVENT
DTSTART;TZID=Europe/Amsterdam:20250521T190000
DTEND;TZID=Europe/Amsterdam:20250521T230000
DTSTAMP:20260421T114401
CREATED:20250307T150612Z
LAST-MODIFIED:20250307T150612Z
UID:467-1747854000-1747868400@www.wsvo.nl
SUMMARY:Twilight Race 3
DESCRIPTION:Twilight Race 3
URL:https://www.wsvo.nl/tedoen/twilight-race-3/
END:VEVENT
BEGIN:VEVENT
DTSTART;TZID=Europe/Amsterdam:20250514T190000
DTEND;TZID=Europe/Amsterdam:20250514T230000
DTSTAMP:20260421T114401
CREATED:20250307T150440Z
LAST-MODIFIED:20250307T150440Z
UID:465-1747249200-1747263600@www.wsvo.nl
SUMMARY:Twilight Race 2
DESCRIPTION:Twilight Race 2
URL:https://www.wsvo.nl/tedoen/twilight-race-2/
END:VEVENT
BEGIN:VEVENT
DTSTART;TZID=Europe/Amsterdam:20250507T193000
DTEND;TZID=Europe/Amsterdam:20250507T230000
DTSTAMP:20260421T114401
CREATED:20250307T150306Z
LAST-MODIFIED:20250307T150306Z
UID:463-1746646200-1746658800@www.wsvo.nl
SUMMARY:Twilight Race 1
DESCRIPTION:Twilight Race 1
URL:https://www.wsvo.nl/tedoen/twilight-race-1/
END:VEVENT
BEGIN:VEVENT
DTSTART;TZID=Europe/Amsterdam:20250411T080000
DTEND;TZID=Europe/Amsterdam:20250505T170000
DTSTAMP:20260421T114401
CREATED:20250308T083420Z
LAST-MODIFIED:20250308T083420Z
UID:490-1744358400-1746464400@www.wsvo.nl
SUMMARY:Kronen 2025
DESCRIPTION:Het vijfjarige feest van Wemeldinge met feest\, optocht en lichtjesroute \nMeer informatie: oranjeverenigingwemeldinge.nl
URL:https://www.wsvo.nl/tedoen/kronen-2025/
LOCATION:ALV 2025\, Sluisplateau\, Wemeldinge\, Netherlands
END:VEVENT
BEGIN:VEVENT
DTSTART;TZID=Europe/Amsterdam:20250404T193000
DTEND;TZID=Europe/Amsterdam:20250404T230000
DTSTAMP:20260421T114401
CREATED:20250307T143036Z
LAST-MODIFIED:20250307T143036Z
UID:458-1743795000-1743807600@www.wsvo.nl
SUMMARY:ALV 2025
DESCRIPTION:Algemene leden vergadering 2025
URL:https://www.wsvo.nl/tedoen/alv-2025/
LOCATION:ALV 2025\, Sluisplateau\, Wemeldinge\, Netherlands
ORGANIZER;CN="WSVO":MAILTO:info@wsvo.nl
END:VEVENT
END:VCALENDAR