BEGIN:VCALENDAR
VERSION:2.0
PRODID:-//WSVO - ECPv6.15.18//NONSGML v1.0//EN
CALSCALE:GREGORIAN
METHOD:PUBLISH
X-ORIGINAL-URL:https://www.wsvo.nl
X-WR-CALDESC:Evenementen voor WSVO
REFRESH-INTERVAL;VALUE=DURATION:PT1H
X-Robots-Tag:noindex
X-PUBLISHED-TTL:PT1H
BEGIN:VTIMEZONE
TZID:Europe/Amsterdam
BEGIN:DAYLIGHT
TZOFFSETFROM:+0100
TZOFFSETTO:+0200
TZNAME:CEST
DTSTART:20240331T010000
END:DAYLIGHT
BEGIN:STANDARD
TZOFFSETFROM:+0200
TZOFFSETTO:+0100
TZNAME:CET
DTSTART:20241027T010000
END:STANDARD
BEGIN:DAYLIGHT
TZOFFSETFROM:+0100
TZOFFSETTO:+0200
TZNAME:CEST
DTSTART:20250330T010000
END:DAYLIGHT
BEGIN:STANDARD
TZOFFSETFROM:+0200
TZOFFSETTO:+0100
TZNAME:CET
DTSTART:20251026T010000
END:STANDARD
BEGIN:DAYLIGHT
TZOFFSETFROM:+0100
TZOFFSETTO:+0200
TZNAME:CEST
DTSTART:20260329T010000
END:DAYLIGHT
BEGIN:STANDARD
TZOFFSETFROM:+0200
TZOFFSETTO:+0100
TZNAME:CET
DTSTART:20261025T010000
END:STANDARD
END:VTIMEZONE
BEGIN:VEVENT
DTSTART;TZID=Europe/Amsterdam:20250809T080000
DTEND;TZID=Europe/Amsterdam:20250809T230000
DTSTAMP:20260423T190610
CREATED:20250308T082530Z
LAST-MODIFIED:20250308T082530Z
UID:487-1754726400-1754780400@www.wsvo.nl
SUMMARY:Mosselrace 2025
DESCRIPTION:Mosselrace 2025
URL:https://www.wsvo.nl/tedoen/mosselrace-2025/
LOCATION:yerseke\, Kettingweg 3\, Yerseke\, 4401KX\, Netherlands
END:VEVENT
BEGIN:VEVENT
DTSTART;TZID=Europe/Amsterdam:20250820T190000
DTEND;TZID=Europe/Amsterdam:20250820T230000
DTSTAMP:20260423T190610
CREATED:20250307T152128Z
LAST-MODIFIED:20250307T152128Z
UID:481-1755716400-1755730800@www.wsvo.nl
SUMMARY:Twilight Race 11
DESCRIPTION:Twilight Race 11
URL:https://www.wsvo.nl/tedoen/twilight-race-11/
LOCATION:Zeeland
END:VEVENT
BEGIN:VEVENT
DTSTART;TZID=Europe/Amsterdam:20250827T190000
DTEND;TZID=Europe/Amsterdam:20250827T230000
DTSTAMP:20260423T190610
CREATED:20250307T152256Z
LAST-MODIFIED:20250307T152256Z
UID:483-1756321200-1756335600@www.wsvo.nl
SUMMARY:Twilight Race 12
DESCRIPTION:Twilight Race 12
URL:https://www.wsvo.nl/tedoen/twilight-race-12/
LOCATION:Zeeland
END:VEVENT
END:VCALENDAR